{"text_format":"1","workbook":"xlsx","n_sheets":5,"sheets":["cards","words","teachers","random","Watch Me"],"not_rendered":{"charts":0,"images":2,"macros":1,"external_links":0,"defined_names":3,"comments":0,"pivot_tables":0},"unopened":[],"bounds":{"document_bytes":16777216,"sheet_cells":100000,"rows_first":2000,"rows_last":500,"rows_between":2000,"halvings":0,"cell_chars":16384,"cell_head_chars":4096},"cells_cut":0,"cells_raw":0,"read":"whole","date_system":"1900"}

{"sheet":"cards","index":0,"n_rows":27,"n_cols":4,"rows_kept":27,"cut":false,"hidden":false,"merged":[[0,0,0,3],[14,0,14,3],[7,0,7,3],[21,0,21,3]]}
[{"$f":"words!$B$32","v":"Adding and Subtracting Fractions"}]
[]
[{"$f":"random!$B$1","v":"1/8"},{"$f":"random!$B$2","v":"1/4"},{"$f":"random!$B$3","v":"7/10"},{"$f":"random!$B$4","v":"1/5"}]
[{"$f":"random!$B$5","v":"1/3"},{"$f":"random!$B$6","v":"29/30"},{"$f":"random!$B$7","v":"11/12"},{"$f":"random!$B$8","v":"5/8"}]
[{"$f":"random!$B$9","v":"3/8"},{"$f":"random!$B$10","v":"1/7"},{"$f":"random!$B$11","v":"2/5"},{"$f":"random!$B$12","v":"1/2"}]
[{"$f":"random!$B$13","v":"5/24"},{"$f":"random!$B$14","v":"11/15"},{"$f":"random!$B$15","v":"9/20"},{"$f":"random!$B$16","v":"7/8"}]
[]
[{"$f":"words!$B$32","v":"Adding and Subtracting Fractions"}]
[]
[{"$f":"random!$D$1","v":"4/5"},{"$f":"random!$D$2","v":"7/9"},{"$f":"random!$D$3","v":"1/6"},{"$f":"random!$D$4","v":"13/24"}]
[{"$f":"random!$D$5","v":"5/6"},{"$f":"random!$D$6","v":"7/10"},{"$f":"random!$D$7","v":"1/8"},{"$f":"random!$D$8","v":"29/30"}]
[{"$f":"random!$D$9","v":"1/12"},{"$f":"random!$D$10","v":"3/10"},{"$f":"random!$D$11","v":"1/3"},{"$f":"random!$D$12","v":"1/2"}]
[{"$f":"random!$D$13","v":"1/4"},{"$f":"random!$D$14","v":"1/21"},{"$f":"random!$D$15","v":"5/24"},{"$f":"random!$D$16","v":"2/9"}]
[]
[{"$f":"words!$B$32","v":"Adding and Subtracting Fractions"}]
[]
[{"$f":"random!$F$1","v":"7/30"},{"$f":"random!$F$2","v":"4/5"},{"$f":"random!$F$3","v":"17/20"},{"$f":"random!$F$4","v":"2/3"}]
[{"$f":"random!$F$5","v":"9/20"},{"$f":"random!$F$6","v":"1/6"},{"$f":"random!$F$7","v":"1/8"},{"$f":"random!$F$8","v":"3/8"}]
[{"$f":"random!$F$9","v":"2/5"},{"$f":"random!$F$10","v":"11/12"},{"$f":"random!$F$11","v":"13/24"},{"$f":"random!$F$12","v":"7/10"}]
[{"$f":"random!$F$13","v":"5/8"},{"$f":"random!$F$14","v":"1/4"},{"$f":"random!$F$15","v":"29/30"},{"$f":"random!$F$16","v":"1/21"}]
[]
[{"$f":"words!$B$32","v":"Adding and Subtracting Fractions"}]
[]
[{"$f":"random!$H$1","v":"1/2"},{"$f":"random!$H$2","v":"2/9"},{"$f":"random!$H$3","v":"17/20"},{"$f":"random!$H$4","v":"7/30"}]
[{"$f":"random!$H$5","v":"5/6"},{"$f":"random!$H$6","v":"1/6"},{"$f":"random!$H$7","v":"1/7"},{"$f":"random!$H$8","v":"4/5"}]
[{"$f":"random!$H$9","v":"3/10"},{"$f":"random!$H$10","v":"11/12"},{"$f":"random!$H$11","v":"13/15"},{"$f":"random!$H$12","v":"9/20"}]
[{"$f":"random!$H$13","v":"5/18"},{"$f":"random!$H$14","v":"3/8"},{"$f":"random!$H$15","v":"29/30"},{"$f":"random!$H$16","v":"7/8"}]

{"sheet":"words","index":1,"n_rows":33,"n_cols":3,"rows_kept":33,"cut":false,"hidden":false,"merged":[]}
[1,"7/30","5/6 - 3/5"]
[2,"1/2","3/4 - ___ = 1/4"]
[3,"1/3","___ - 1/8 = 5/24"]
[4,"2/3","1/4 + 5/12"]
[5,"1/4","3/4 - 1/2"]
[6,"1/5","3/4 + ___ = 19/20"]
[7,"2/5","___ + 1/6 = 17/30"]
[8,"4/5","___ - 1/6 = 19/30"]
[9,"1/6","3/5 - ___ = 13/30"]
[10,"5/6","2/3 + 1/6"]
[11,"1/7","1/5 + ___ = 12/35"]
[12,"1/8","3/4 - 5/8"]
[13,"3/8","7/8 - 1/2"]
[14,"5/8","___ - 1/3 = 7/24"]
[15,"7/8","3/4 + 1/8"]
[16,"2/9","8/9 - 2/3"]
[17,"7/9","4/9 + 1/3"]
[18,"3/10","4/5 - 1/2"]
[19,"29/30","3/10 + 2/3 "]
[20,"7/10","___ - 2/3 = 1/30"]
[21,"1/12","3/4 - 2/3"]
[22,"11/12","3/4 + 1/6"]
[23,"11/15","2/5 + 1/3"]
[24,"5/18","7/9 - 1/2"]
[25,"9/20","3/4 - ___ = 9/20"]
[26,"1/21","5/7 - 2/3"]
[27,"5/24","7/8 - 2/3"]
[28,"13/15","1/5 + 2/3"]
[29,"13/24","3/8 + 1/6"]
[30,"17/20","1/4 + 3/5"]
[null,"Enter your word list here ^","Enter your questions here ^"]
[null,"Adding and Subtracting Fractions"]
[null,"Enter the title here ^"]

{"sheet":"teachers","index":2,"n_rows":31,"n_cols":5,"rows_kept":31,"cut":false,"hidden":false,"merged":[]}
[1,{"$f":"VLOOKUP(A1,questions,2)","v":"7/30"},{"$f":"VLOOKUP(A1,questions,3)","v":"5/6 - 3/5"}]
[23,"11/15","2/5 + 1/3"]
[26,"1/21","5/7 - 2/3"]
[9,"1/6","3/5 - ___ = 13/30",null,"These are the questions to read."]
[22,"11/12","3/4 + 1/6",null,"The first column is the bingo \"cells\""]
[13,"3/8","7/8 - 1/2"]
[25,"9/20","3/4 - ___ = 9/20"]
[14,"5/8","___ - 1/3 = 7/24"]
[3,"1/3","___ - 1/8 = 5/24"]
[11,"1/7","1/5 + ___ = 12/35"]
[10,"5/6","2/3 + 1/6"]
[24,"5/18","7/9 - 1/2"]
[5,"1/4","3/4 - 1/2"]
[18,"3/10","4/5 - 1/2"]
[29,"13/24","3/8 + 1/6"]
[8,"4/5","___ - 1/6 = 19/30"]
[4,"2/3","1/4 + 5/12"]
[30,"17/20","1/4 + 3/5"]
[19,"29/30","3/10 + 2/3 "]
[28,"13/15","1/5 + 2/3"]
[12,"1/8","3/4 - 5/8"]
[16,"2/9","8/9 - 2/3"]
[7,"2/5","___ + 1/6 = 17/30"]
[27,"5/24","7/8 - 2/3"]
[20,"7/10","___ - 2/3 = 1/30"]
[15,"7/8","3/4 + 1/8"]
[6,"1/5","3/4 + ___ = 19/20"]
[21,"1/12","3/4 - 2/3"]
[17,"7/9","4/9 + 1/3"]
[2,"1/2","3/4 - ___ = 1/4"]
[null,null,"The End"]

{"sheet":"random","index":3,"n_rows":16,"n_cols":8,"rows_kept":16,"cut":false,"hidden":true,"merged":[]}
[12,{"$f":"VLOOKUP(A1,words!$A$1:$B$30,2)","v":"1/8"},8,{"$f":"VLOOKUP(C1,words!$A$1:$B$30,2)","v":"4/5"},1,{"$f":"VLOOKUP(E1,words!$A$1:$B$30,2)","v":"7/30"},2,{"$f":"VLOOKUP(G1,words!$A$1:$B$30,2)","v":"1/2"}]
[5,{"$f":"VLOOKUP(A2,words!$A$1:$B$30,2)","v":"1/4"},17,{"$f":"VLOOKUP(C2,words!$A$1:$B$30,2)","v":"7/9"},8,{"$f":"VLOOKUP(E2,words!$A$1:$B$30,2)","v":"4/5"},16,{"$f":"VLOOKUP(G2,words!$A$1:$B$30,2)","v":"2/9"}]
[20,{"$f":"VLOOKUP(A3,words!$A$1:$B$30,2)","v":"7/10"},9,{"$f":"VLOOKUP(C3,words!$A$1:$B$30,2)","v":"1/6"},30,{"$f":"VLOOKUP(E3,words!$A$1:$B$30,2)","v":"17/20"},30,{"$f":"VLOOKUP(G3,words!$A$1:$B$30,2)","v":"17/20"}]
[6,{"$f":"VLOOKUP(A4,words!$A$1:$B$30,2)","v":"1/5"},29,{"$f":"VLOOKUP(C4,words!$A$1:$B$30,2)","v":"13/24"},4,{"$f":"VLOOKUP(E4,words!$A$1:$B$30,2)","v":"2/3"},1,{"$f":"VLOOKUP(G4,words!$A$1:$B$30,2)","v":"7/30"}]
[3,{"$f":"VLOOKUP(A5,words!$A$1:$B$30,2)","v":"1/3"},10,{"$f":"VLOOKUP(C5,words!$A$1:$B$30,2)","v":"5/6"},25,{"$f":"VLOOKUP(E5,words!$A$1:$B$30,2)","v":"9/20"},10,{"$f":"VLOOKUP(G5,words!$A$1:$B$30,2)","v":"5/6"}]
[19,{"$f":"VLOOKUP(A6,words!$A$1:$B$30,2)","v":"29/30"},20,{"$f":"VLOOKUP(C6,words!$A$1:$B$30,2)","v":"7/10"},9,{"$f":"VLOOKUP(E6,words!$A$1:$B$30,2)","v":"1/6"},9,{"$f":"VLOOKUP(G6,words!$A$1:$B$30,2)","v":"1/6"}]
[22,{"$f":"VLOOKUP(A7,words!$A$1:$B$30,2)","v":"11/12"},12,{"$f":"VLOOKUP(C7,words!$A$1:$B$30,2)","v":"1/8"},12,{"$f":"VLOOKUP(E7,words!$A$1:$B$30,2)","v":"1/8"},11,{"$f":"VLOOKUP(G7,words!$A$1:$B$30,2)","v":"1/7"}]
[14,{"$f":"VLOOKUP(A8,words!$A$1:$B$30,2)","v":"5/8"},19,{"$f":"VLOOKUP(C8,words!$A$1:$B$30,2)","v":"29/30"},13,{"$f":"VLOOKUP(E8,words!$A$1:$B$30,2)","v":"3/8"},8,{"$f":"VLOOKUP(G8,words!$A$1:$B$30,2)","v":"4/5"}]
[13,{"$f":"VLOOKUP(A9,words!$A$1:$B$30,2)","v":"3/8"},21,{"$f":"VLOOKUP(C9,words!$A$1:$B$30,2)","v":"1/12"},7,{"$f":"VLOOKUP(E9,words!$A$1:$B$30,2)","v":"2/5"},18,{"$f":"VLOOKUP(G9,words!$A$1:$B$30,2)","v":"3/10"}]
[11,{"$f":"VLOOKUP(A10,words!$A$1:$B$30,2)","v":"1/7"},18,{"$f":"VLOOKUP(C10,words!$A$1:$B$30,2)","v":"3/10"},22,{"$f":"VLOOKUP(E10,words!$A$1:$B$30,2)","v":"11/12"},22,{"$f":"VLOOKUP(G10,words!$A$1:$B$30,2)","v":"11/12"}]
[7,{"$f":"VLOOKUP(A11,words!$A$1:$B$30,2)","v":"2/5"},3,{"$f":"VLOOKUP(C11,words!$A$1:$B$30,2)","v":"1/3"},29,{"$f":"VLOOKUP(E11,words!$A$1:$B$30,2)","v":"13/24"},28,{"$f":"VLOOKUP(G11,words!$A$1:$B$30,2)","v":"13/15"}]
[2,{"$f":"VLOOKUP(A12,words!$A$1:$B$30,2)","v":"1/2"},2,{"$f":"VLOOKUP(C12,words!$A$1:$B$30,2)","v":"1/2"},20,{"$f":"VLOOKUP(E12,words!$A$1:$B$30,2)","v":"7/10"},25,{"$f":"VLOOKUP(G12,words!$A$1:$B$30,2)","v":"9/20"}]
[27,{"$f":"VLOOKUP(A13,words!$A$1:$B$30,2)","v":"5/24"},5,{"$f":"VLOOKUP(C13,words!$A$1:$B$30,2)","v":"1/4"},14,{"$f":"VLOOKUP(E13,words!$A$1:$B$30,2)","v":"5/8"},24,{"$f":"VLOOKUP(G13,words!$A$1:$B$30,2)","v":"5/18"}]
[23,{"$f":"VLOOKUP(A14,words!$A$1:$B$30,2)","v":"11/15"},26,{"$f":"VLOOKUP(C14,words!$A$1:$B$30,2)","v":"1/21"},5,{"$f":"VLOOKUP(E14,words!$A$1:$B$30,2)","v":"1/4"},13,{"$f":"VLOOKUP(G14,words!$A$1:$B$30,2)","v":"3/8"}]
[25,{"$f":"VLOOKUP(A15,words!$A$1:$B$30,2)","v":"9/20"},27,{"$f":"VLOOKUP(C15,words!$A$1:$B$30,2)","v":"5/24"},19,{"$f":"VLOOKUP(E15,words!$A$1:$B$30,2)","v":"29/30"},19,{"$f":"VLOOKUP(G15,words!$A$1:$B$30,2)","v":"29/30"}]
[15,{"$f":"VLOOKUP(A16,words!$A$1:$B$30,2)","v":"7/8"},16,{"$f":"VLOOKUP(C16,words!$A$1:$B$30,2)","v":"2/9"},26,{"$f":"VLOOKUP(E16,words!$A$1:$B$30,2)","v":"1/21"},15,{"$f":"VLOOKUP(G16,words!$A$1:$B$30,2)","v":"7/8"}]

{"sheet":"Watch Me","index":4,"n_rows":0,"n_cols":0,"rows_kept":0,"cut":false,"hidden":false,"merged":[]}